BEGIN:VCALENDAR
VERSION:2.0
PRODID:-//SOS Pet Rescue - ECPv6.15.20//NONSGML v1.0//EN
CALSCALE:GREGORIAN
METHOD:PUBLISH
X-WR-CALNAME:SOS Pet Rescue
X-ORIGINAL-URL:https://sospetrescue.org
X-WR-CALDESC:Events for SOS Pet Rescue
REFRESH-INTERVAL;VALUE=DURATION:PT1H
X-Robots-Tag:noindex
X-PUBLISHED-TTL:PT1H
BEGIN:VTIMEZONE
TZID:America/New_York
BEGIN:DAYLIGHT
TZOFFSETFROM:-0500
TZOFFSETTO:-0400
TZNAME:EDT
DTSTART:20220313T070000
END:DAYLIGHT
BEGIN:STANDARD
TZOFFSETFROM:-0400
TZOFFSETTO:-0500
TZNAME:EST
DTSTART:20221106T060000
END:STANDARD
BEGIN:DAYLIGHT
TZOFFSETFROM:-0500
TZOFFSETTO:-0400
TZNAME:EDT
DTSTART:20230312T070000
END:DAYLIGHT
BEGIN:STANDARD
TZOFFSETFROM:-0400
TZOFFSETTO:-0500
TZNAME:EST
DTSTART:20231105T060000
END:STANDARD
BEGIN:DAYLIGHT
TZOFFSETFROM:-0500
TZOFFSETTO:-0400
TZNAME:EDT
DTSTART:20240310T070000
END:DAYLIGHT
BEGIN:STANDARD
TZOFFSETFROM:-0400
TZOFFSETTO:-0500
TZNAME:EST
DTSTART:20241103T060000
END:STANDARD
BEGIN:DAYLIGHT
TZOFFSETFROM:-0500
TZOFFSETTO:-0400
TZNAME:EDT
DTSTART:20250309T070000
END:DAYLIGHT
BEGIN:STANDARD
TZOFFSETFROM:-0400
TZOFFSETTO:-0500
TZNAME:EST
DTSTART:20251102T060000
END:STANDARD
BEGIN:DAYLIGHT
TZOFFSETFROM:-0500
TZOFFSETTO:-0400
TZNAME:EDT
DTSTART:20260308T070000
END:DAYLIGHT
BEGIN:STANDARD
TZOFFSETFROM:-0400
TZOFFSETTO:-0500
TZNAME:EST
DTSTART:20261101T060000
END:STANDARD
END:VTIMEZONE
BEGIN:VEVENT
DTSTART;TZID=America/New_York:20250315T120000
DTEND;TZID=America/New_York:20250315T170000
DTSTAMP:20260419T203917
CREATED:20250217T002707Z
LAST-MODIFIED:20250217T002707Z
UID:729-1742040000-1742058000@sospetrescue.org
SUMMARY:Saint Catty's Day Pawty
DESCRIPTION:
URL:https://sospetrescue.org/event/saint-cattys-day-pawty/
LOCATION:Tolino Vineyards\, 280 Mt Pleasant Rd\, Bangor\, PA\, 18013\, United States
END:VEVENT
BEGIN:VEVENT
DTSTART;TZID=America/New_York:20250208T110000
DTEND;TZID=America/New_York:20250208T160000
DTSTAMP:20260419T203917
CREATED:20250125T203323Z
LAST-MODIFIED:20250125T203323Z
UID:723-1739012400-1739030400@sospetrescue.org
SUMMARY:Paws & Kisses Valentine Pet Expo
DESCRIPTION:♥ Local rescues with adoptable animals \n♥ Vendors (pet and non-pet relate) \n♥ Best dressed Valentine pet contest \n♥ Valentine sales at mall stores
URL:https://sospetrescue.org/event/paws-kisses-valentine-pet-expo/
LOCATION:Palmer Park Mall\, 123 Palmer Park Mall\, Easton\, PA\, 18045\, United States
ATTACH;FMTTYPE=image/jpeg:https://sospetrescue.org/wp-content/uploads/2025/01/unnamed.jpg
END:VEVENT
BEGIN:VEVENT
DTSTART;TZID=America/New_York:20241207T100000
DTEND;TZID=America/New_York:20241207T160000
DTSTAMP:20260419T203917
CREATED:20240902T200034Z
LAST-MODIFIED:20241130T013439Z
UID:634-1733565600-1733587200@sospetrescue.org
SUMMARY:Tractor Supply Adoption Event
DESCRIPTION:
URL:https://sospetrescue.org/event/tractor-supply-adoption-event-2/
LOCATION:Tractor Supply\, 4037 Jandy Blvd\, Nazareth\, PA\, United States
ATTACH;FMTTYPE=image/jpeg:https://sospetrescue.org/wp-content/uploads/2024/09/admin-ajax.jpg
END:VEVENT
BEGIN:VEVENT
DTSTART;TZID=America/New_York:20241201T110000
DTEND;TZID=America/New_York:20241201T160000
DTSTAMP:20260419T203917
CREATED:20241010T012417Z
LAST-MODIFIED:20241010T015029Z
UID:657-1733050800-1733068800@sospetrescue.org
SUMMARY:Holly Jolly Jubilee
DESCRIPTION:
URL:https://sospetrescue.org/event/holly-jolly-jubilee-2/
LOCATION:Allegheny Creek Brewing Company\, 690 Allegheny Rd\, Mt Bethel\, PA\, 18343\, United States
ATTACH;FMTTYPE=image/jpeg:https://sospetrescue.org/wp-content/uploads/2024/10/unnamed-3.jpg
END:VEVENT
BEGIN:VEVENT
DTSTART;TZID=America/New_York:20241115T160000
DTEND;TZID=America/New_York:20241115T200000
DTSTAMP:20260419T203917
CREATED:20241010T012542Z
LAST-MODIFIED:20241010T012542Z
UID:660-1731686400-1731700800@sospetrescue.org
SUMMARY:Raise Some Dough Panera Fundraising
DESCRIPTION:
URL:https://sospetrescue.org/event/raise-some-dough-panera-fundraising/
LOCATION:PA
ATTACH;FMTTYPE=image/jpeg:https://sospetrescue.org/wp-content/uploads/2024/10/unnamed-4.jpg
END:VEVENT
BEGIN:VEVENT
DTSTART;TZID=America/New_York:20241109T100000
DTEND;TZID=America/New_York:20241109T160000
DTSTAMP:20260419T203917
CREATED:20241010T011522Z
LAST-MODIFIED:20241029T130321Z
UID:645-1731146400-1731168000@sospetrescue.org
SUMMARY:SOS Adoption Events
DESCRIPTION:
URL:https://sospetrescue.org/event/sos-adoption-events/
LOCATION:PA
END:VEVENT
BEGIN:VEVENT
DTSTART;TZID=America/New_York:20241019T110000
DTEND;TZID=America/New_York:20241019T160000
DTSTAMP:20260419T203917
CREATED:20241010T011720Z
LAST-MODIFIED:20241010T011720Z
UID:652-1729335600-1729353600@sospetrescue.org
SUMMARY:Bark & Boo Fest Halloween Event
DESCRIPTION:
URL:https://sospetrescue.org/event/bark-boo-fest-halloween-event/
LOCATION:Palmer Park Mall\, 123 Palmer Park Mall\, Easton\, PA\, 18045\, United States
ATTACH;FMTTYPE=image/jpeg:https://sospetrescue.org/wp-content/uploads/2024/10/unnamed-1.jpg
END:VEVENT
BEGIN:VEVENT
DTSTART;TZID=America/New_York:20240926T170000
DTEND;TZID=America/New_York:20240926T210000
DTSTAMP:20260419T203917
CREATED:20240902T200733Z
LAST-MODIFIED:20240902T200733Z
UID:641-1727370000-1727384400@sospetrescue.org
SUMMARY:Red Robin Fundraiser Night
DESCRIPTION:
URL:https://sospetrescue.org/event/red-robin-fundraiser-night/
LOCATION:Red Robin Bartonsville\, 1792 N 9th St.\, Bartonsville\, PA\, United States
ATTACH;FMTTYPE=image/jpeg:https://sospetrescue.org/wp-content/uploads/2024/09/image4.jpeg
END:VEVENT
BEGIN:VEVENT
DTSTART;TZID=America/New_York:20240921T000000
DTEND;TZID=America/New_York:20240921T170000
DTSTAMP:20260419T203917
CREATED:20240902T200507Z
LAST-MODIFIED:20240902T200507Z
UID:639-1726876800-1726938000@sospetrescue.org
SUMMARY:Pawtumn Celebration
DESCRIPTION:
URL:https://sospetrescue.org/event/pawtumn-celebration/
LOCATION:Tolino Vineyards\, 280 Mt Pleasant Rd\, Bangor\, PA\, 18013\, United States
ATTACH;FMTTYPE=image/jpeg:https://sospetrescue.org/wp-content/uploads/2024/09/image3.jpeg
END:VEVENT
BEGIN:VEVENT
DTSTART;TZID=America/New_York:20240914T140000
DTEND;TZID=America/New_York:20240914T160000
DTSTAMP:20260419T203917
CREATED:20240902T200339Z
LAST-MODIFIED:20240902T200339Z
UID:636-1726322400-1726329600@sospetrescue.org
SUMMARY:Sip & Crochet Donation Class
DESCRIPTION:
URL:https://sospetrescue.org/event/sip-crochet-donation-class/
LOCATION:Kim’s Kozy Crochet\, 11 Broadway\, Bangor\, PA\, 18013\, United States
ATTACH;FMTTYPE=image/png:https://sospetrescue.org/wp-content/uploads/2024/09/image2.png
END:VEVENT
BEGIN:VEVENT
DTSTART;TZID=America/New_York:20240907T100000
DTEND;TZID=America/New_York:20240907T160000
DTSTAMP:20260419T203917
CREATED:20240902T195918Z
LAST-MODIFIED:20240902T195918Z
UID:631-1725703200-1725724800@sospetrescue.org
SUMMARY:Tractor Supply Adoption Event
DESCRIPTION:
URL:https://sospetrescue.org/event/tractor-supply-adoption-event/
LOCATION:Tractor Supply\, 4037 Jandy Blvd\, Nazareth\, PA\, United States
ATTACH;FMTTYPE=image/jpeg:https://sospetrescue.org/wp-content/uploads/2024/09/image1-scaled.jpeg
END:VEVENT
BEGIN:VEVENT
DTSTART;TZID=America/New_York:20240825T110000
DTEND;TZID=America/New_York:20240825T160000
DTSTAMP:20260419T203917
CREATED:20240805T224543Z
LAST-MODIFIED:20240805T224543Z
UID:611-1724583600-1724601600@sospetrescue.org
SUMMARY:Dogs Day Out
DESCRIPTION:
URL:https://sospetrescue.org/event/dogs-day-out/
LOCATION:Pocono Premium Outlets\, 1051 Premium Outlets Drive\, Tannersville\, PA\, United States
ATTACH;FMTTYPE=image/jpeg:https://sospetrescue.org/wp-content/uploads/2024/08/1000000544.jpg
END:VEVENT
BEGIN:VEVENT
DTSTART;TZID=America/New_York:20240817T120000
DTEND;TZID=America/New_York:20240817T180000
DTSTAMP:20260419T203917
CREATED:20240805T224734Z
LAST-MODIFIED:20240805T224734Z
UID:614-1723896000-1723917600@sospetrescue.org
SUMMARY:Adoption Event
DESCRIPTION:
URL:https://sospetrescue.org/event/adoption-event/
LOCATION:Tractor Supply\, 4037 Jandy Blvd\, Nazareth\, PA\, United States
ATTACH;FMTTYPE=image/jpeg:https://sospetrescue.org/wp-content/uploads/2024/08/1000000543.jpg
END:VEVENT
BEGIN:VEVENT
DTSTART;TZID=America/New_York:20240817T080000
DTEND;TZID=America/New_York:20240817T120000
DTSTAMP:20260419T203917
CREATED:20240805T224945Z
LAST-MODIFIED:20240805T224945Z
UID:617-1723881600-1723896000@sospetrescue.org
SUMMARY:Monroe Farmers Market
DESCRIPTION:
URL:https://sospetrescue.org/event/monroe-farmers-market/
LOCATION:Courthouse Square\, Courthouse Square\, Stroudsburg\, PA\, United States
ATTACH;FMTTYPE=image/jpeg:https://sospetrescue.org/wp-content/uploads/2024/08/unnamed.jpg
END:VEVENT
BEGIN:VEVENT
DTSTART;TZID=America/New_York:20240804T101500
DTEND;TZID=America/New_York:20240804T111500
DTSTAMP:20260419T203917
CREATED:20240706T222537Z
LAST-MODIFIED:20240706T222537Z
UID:590-1722766500-1722770100@sospetrescue.org
SUMMARY:Barre3 Donation Class
DESCRIPTION:Benefitting SOS Pet Rescue
URL:https://sospetrescue.org/event/barre3-donation-class/
LOCATION:Barre3\, 3303 Bath Pike Bethlehem\, Bethlehem\, PA\, 18017\, United States
ATTACH;FMTTYPE=image/jpeg:https://sospetrescue.org/wp-content/uploads/2024/07/FB_IMG_1720307557200.jpg
END:VEVENT
BEGIN:VEVENT
DTSTART;TZID=America/New_York:20240719T200000
DTEND;TZID=America/New_York:20240719T235900
DTSTAMP:20260419T203917
CREATED:20240706T221944Z
LAST-MODIFIED:20240706T234456Z
UID:583-1721419200-1721433540@sospetrescue.org
SUMMARY:Easton Women's Softball League
DESCRIPTION:Easton Women’s Softball League overnight tournament \n  \n**Rain Date: July 26\, 2024**
URL:https://sospetrescue.org/event/easton-womens-softball-league/
LOCATION:Bob Rutt Field\, Easton\, Pennsylvania
ATTACH;FMTTYPE=image/jpeg:https://sospetrescue.org/wp-content/uploads/2024/07/IMG_20240706_193035.jpg
END:VEVENT
BEGIN:VEVENT
DTSTART;TZID=America/New_York:20240713T120000
DTEND;TZID=America/New_York:20240713T180000
DTSTAMP:20260419T203917
CREATED:20240706T222319Z
LAST-MODIFIED:20240706T222319Z
UID:586-1720872000-1720893600@sospetrescue.org
SUMMARY:Slate Belt Pride
DESCRIPTION:
URL:https://sospetrescue.org/event/slate-belt-pride/
LOCATION:Bangor\, Broadway St\, Bangor\, Pennsylvania
ATTACH;FMTTYPE=image/jpeg:https://sospetrescue.org/wp-content/uploads/2024/07/FB_IMG_1720263851396.jpg
END:VEVENT
BEGIN:VEVENT
DTSTART;TZID=America/New_York:20240623T130000
DTEND;TZID=America/New_York:20240623T160000
DTSTAMP:20260419T203917
CREATED:20240513T173843Z
LAST-MODIFIED:20240513T173843Z
UID:563-1719147600-1719158400@sospetrescue.org
SUMMARY:Summer Va-CAT-ion Kickoff
DESCRIPTION:
URL:https://sospetrescue.org/event/summer-va-cat-ion-kickoff/
LOCATION:Eagles Rest Cellars\, 107 Eagles Rest Lane\, Stroudsburg\, PA\, 18360\, United States
ATTACH;FMTTYPE=image/jpeg:https://sospetrescue.org/wp-content/uploads/2024/05/FB_IMG_1715288788680.jpg
END:VEVENT
BEGIN:VEVENT
DTSTART;TZID=America/New_York:20240609T110000
DTEND;TZID=America/New_York:20240609T160000
DTSTAMP:20260419T203917
CREATED:20240427T103516Z
LAST-MODIFIED:20240427T103516Z
UID:552-1717930800-1717948800@sospetrescue.org
SUMMARY:PAW PRINTS ON THE CANAL
DESCRIPTION:VISIT SOS AND OTHER RESCUES-SHOP FROM LOCAL VENDORS
URL:https://sospetrescue.org/event/paw-prints-on-the-canal/
LOCATION:Canal Street Park\, Northampton\, PA\, United States
ATTACH;FMTTYPE=image/jpeg:https://sospetrescue.org/wp-content/uploads/2024/04/FB_IMG_1714216629143.jpg
END:VEVENT
BEGIN:VEVENT
DTSTART;TZID=America/New_York:20240504T100000
DTEND;TZID=America/New_York:20240504T150000
DTSTAMP:20260419T203917
CREATED:20240217T124448Z
LAST-MODIFIED:20240217T124448Z
UID:494-1714816800-1714834800@sospetrescue.org
SUMMARY:4th Annual Craft fair and Tricky Tray event
DESCRIPTION:This is a fundraiser for Monroe Animal League\, Campillion\, Furry Friends and SOS Pet Rescue.
URL:https://sospetrescue.org/event/4th-annual-craft-fair-and-tricky-tray-event/
LOCATION:West End Fairgrounds\, 570 Fairgrounds Road\, Gilbert\, PA\, 18331\, United States
ATTACH;FMTTYPE=image/png:https://sospetrescue.org/wp-content/uploads/2024/02/event-mal.png
END:VEVENT
BEGIN:VEVENT
DTSTART;TZID=America/New_York:20240425T050000
DTEND;TZID=America/New_York:20240425T200000
DTSTAMP:20260419T203917
CREATED:20240401T222606Z
LAST-MODIFIED:20240401T222606Z
UID:537-1714021200-1714075200@sospetrescue.org
SUMMARY:Red Robin SOS Fundraider
DESCRIPTION:20% of food sales back to SOS Pet Rescue \nMention this Fundraiser to your server to have your sales counted. \nReference the attached flyer for more details.
URL:https://sospetrescue.org/event/red-robin-sos-fundraider/
LOCATION:Red Robin\, 3716 Easton Nazareth Hwy\, Easton\, PA\, 18045\, United States
ATTACH;FMTTYPE=image/jpeg:https://sospetrescue.org/wp-content/uploads/2024/04/FB_IMG_1711678168356.jpg
END:VEVENT
BEGIN:VEVENT
DTSTART;TZID=America/New_York:20240420T120000
DTEND;TZID=America/New_York:20240420T160000
DTSTAMP:20260419T203917
CREATED:20240413T103816Z
LAST-MODIFIED:20240413T104337Z
UID:544-1713614400-1713628800@sospetrescue.org
SUMMARY:The Mysticat Mug
DESCRIPTION:Bring a donation of cat food or litter and get 50% off of a coffee/espresso drink/tea!
URL:https://sospetrescue.org/event/the-mystical-mug/
LOCATION:The Mystical Mug\, 48D Main St.\, Delaware Water Gap\, PA\, 18327\, United States
ATTACH;FMTTYPE=image/jpeg:https://sospetrescue.org/wp-content/uploads/2024/04/FB_IMG_1713007675309.jpg
END:VEVENT
BEGIN:VEVENT
DTSTART;TZID=America/New_York:20240407T103000
DTEND;TZID=America/New_York:20240407T143000
DTSTAMP:20260419T203917
CREATED:20240302T181024Z
LAST-MODIFIED:20240302T181024Z
UID:510-1712485800-1712500200@sospetrescue.org
SUMMARY:Pet Bowl Pottery Workshop
DESCRIPTION:Class includes all materials and instruction. Proceeds support SOS Pet Rescue and Bloom for Women.
URL:https://sospetrescue.org/event/pet-bowl-pottery-workshop/
LOCATION:Bloom Creative Studio\, 34 Broadway\, Bangor\, PA\, 18013\, United States
ATTACH;FMTTYPE=image/jpeg:https://sospetrescue.org/wp-content/uploads/2024/03/FB_IMG_1709073813741.jpg
END:VEVENT
BEGIN:VEVENT
DTSTART;TZID=America/New_York:20240316T120000
DTEND;TZID=America/New_York:20240316T170000
DTSTAMP:20260419T203917
CREATED:20240225T125331Z
LAST-MODIFIED:20240225T125348Z
UID:501-1710590400-1710608400@sospetrescue.org
SUMMARY:St. Catty's Day Pawty!
DESCRIPTION:Fun for the whole family!\nLearn about our mission and how we can help our communities with strays\nCats and kittens available for adoption\nLive music by George Baier\nSnacks/refreshments available for purchase \nBring a donation of cat food or litter and receive 15% off a purchase at the winery!
URL:https://sospetrescue.org/event/st-cattys-day-pawty/
LOCATION:Tolino Vineyards\, 280 Mt Pleasant Rd\, Bangor\, PA\, 18013\, United States
ATTACH;FMTTYPE=image/jpeg:https://sospetrescue.org/wp-content/uploads/2024/02/FB_IMG_1708817121028.jpg
END:VEVENT
BEGIN:VEVENT
DTSTART;TZID=America/New_York:20240210T110000
DTEND;TZID=America/New_York:20240210T160000
DTSTAMP:20260419T203917
CREATED:20240210T001647Z
LAST-MODIFIED:20240210T001647Z
UID:486-1707562800-1707580800@sospetrescue.org
SUMMARY:Paws & Kisses Valentine's Day Pet Expo
DESCRIPTION:Spend the day with us at the Palmer Park Mall! \n(Well-behaved leashed pups are welcome.) \nDon’t forget to visit with the resident stores in the mall for Valentine’s Day sales!
URL:https://sospetrescue.org/event/paws-kisses-valentines-day-pet-expo/
LOCATION:Palmer Park Mall\, 123 Palmer Park Mall\, Easton\, PA\, 18045\, United States
ATTACH;FMTTYPE=image/jpeg:https://sospetrescue.org/wp-content/uploads/2024/02/IMG_20240209_191027.jpg
END:VEVENT
BEGIN:VEVENT
DTSTART;TZID=America/New_York:20231203T050000
DTEND;TZID=America/New_York:20231203T100000
DTSTAMP:20260419T203917
CREATED:20231029T205144Z
LAST-MODIFIED:20231123T190922Z
UID:111-1701579600-1701597600@sospetrescue.org
SUMMARY:Holly Jolly Jubilee
DESCRIPTION:Join us in Deleware Water Gap\, PA for Live Music\, Back Sale\, Vendors\, and Santa photos for pets & kids provided by Storm Photography.
URL:https://sospetrescue.org/event/holly-jolly-jubilee/
LOCATION:PA
ATTACH;FMTTYPE=image/png:https://sospetrescue.org/wp-content/uploads/2023/11/IMG_20231123_140704.png
END:VEVENT
BEGIN:VEVENT
DTSTART;TZID=America/New_York:20231115T030000
DTEND;TZID=America/New_York:20231128T120000
DTSTAMP:20260419T203917
CREATED:20231116T173226Z
LAST-MODIFIED:20231116T173226Z
UID:340-1700017200-1701172800@sospetrescue.org
SUMMARY:This Giving Tuesday
DESCRIPTION:As Giving Tuesday approaches\, we wanted to think of the ways we can best serve our communities. We appreciate the generosity and support of our local pet food pantries who assist rescues and individuals in need\, so we want to help by hosting a pet food drive with our friends at Nazareth Veterinary Center. You can drop off donations any business day now through Giving Tuesday on November 28th. The most-needed items are dry cat food\, canned cat food and canned dog food\, but all food/litter/etc will be helpful.
URL:https://sospetrescue.org/event/this-giving-tuesday/
LOCATION:PA
ATTACH;FMTTYPE=image/jpeg:https://sospetrescue.org/wp-content/uploads/2023/11/Red-Beige-e1700137384170.jpg
END:VEVENT
BEGIN:VEVENT
DTSTART;TZID=America/New_York:20231112T051500
DTEND;TZID=America/New_York:20231112T061500
DTSTAMP:20260419T203917
CREATED:20231104T033800Z
LAST-MODIFIED:20231104T050058Z
UID:154-1699766100-1699769700@sospetrescue.org
SUMMARY:Barre3 Donation Based Class
DESCRIPTION:Here at barre3 Lehigh Valley we pride ourselves on our foundational core values. One of which is “Give Generously”. We are honored to continue this commitment by teaming up with SOS Pet Rescue. Their mission is to be “A foster based cat and dog rescue in the Pocono and Slate Belt Communities. Encouraging compassion for strays through education and awareness.” Find more information @sospetrescuepa on instagram \nWe will be hosting a donation class on November 12th at 10:15am in our Bethlehem studio. Cost will be $20\, and 100% of the proceeds will be donated to the shelter. \nSign up here—> https://shorturl.at/hzCE5
URL:https://sospetrescue.org/event/barre3-donation-based-class/
LOCATION:Barre3\, 3303 Bath Pike Bethlehem\, Bethlehem\, PA\, 18017\, United States
ATTACH;FMTTYPE=image/jpeg:https://sospetrescue.org/wp-content/uploads/2023/11/395322072_977574760614364_7492696076147602612_n-1-e1699059570436.jpg
END:VEVENT
END:VCALENDAR