BEGIN:VCALENDAR
VERSION:2.0
PRODID:-//SOS Pet Rescue - ECPv6.15.20//NONSGML v1.0//EN
CALSCALE:GREGORIAN
METHOD:PUBLISH
X-ORIGINAL-URL:https://sospetrescue.org
X-WR-CALDESC:Events for SOS Pet Rescue
REFRESH-INTERVAL;VALUE=DURATION:PT1H
X-Robots-Tag:noindex
X-PUBLISHED-TTL:PT1H
BEGIN:VTIMEZONE
TZID:America/New_York
BEGIN:DAYLIGHT
TZOFFSETFROM:-0500
TZOFFSETTO:-0400
TZNAME:EDT
DTSTART:20240310T070000
END:DAYLIGHT
BEGIN:STANDARD
TZOFFSETFROM:-0400
TZOFFSETTO:-0500
TZNAME:EST
DTSTART:20241103T060000
END:STANDARD
BEGIN:DAYLIGHT
TZOFFSETFROM:-0500
TZOFFSETTO:-0400
TZNAME:EDT
DTSTART:20250309T070000
END:DAYLIGHT
BEGIN:STANDARD
TZOFFSETFROM:-0400
TZOFFSETTO:-0500
TZNAME:EST
DTSTART:20251102T060000
END:STANDARD
BEGIN:DAYLIGHT
TZOFFSETFROM:-0500
TZOFFSETTO:-0400
TZNAME:EDT
DTSTART:20260308T070000
END:DAYLIGHT
BEGIN:STANDARD
TZOFFSETFROM:-0400
TZOFFSETTO:-0500
TZNAME:EST
DTSTART:20261101T060000
END:STANDARD
END:VTIMEZONE
BEGIN:VEVENT
DTSTART;TZID=America/New_York:20250614T110000
DTEND;TZID=America/New_York:20250614T160000
DTSTAMP:20260419T075957
CREATED:20250217T002856Z
LAST-MODIFIED:20250217T002856Z
UID:733-1749898800-1749916800@sospetrescue.org
SUMMARY:Catcon
DESCRIPTION:
URL:https://sospetrescue.org/event/catcon/
LOCATION:Palmer Park Mall\, 123 Palmer Park Mall\, Easton\, PA\, 18045\, United States
END:VEVENT
BEGIN:VEVENT
DTSTART;TZID=America/New_York:20250625T160000
DTEND;TZID=America/New_York:20250625T200000
DTSTAMP:20260419T075957
CREATED:20250624T123310Z
LAST-MODIFIED:20250624T123310Z
UID:971-1750867200-1750881600@sospetrescue.org
SUMMARY:Red Robin Fundraiser Night
DESCRIPTION:
URL:https://sospetrescue.org/event/red-robin-fundraiser-night-2/
LOCATION:Red Robin\, 3716 Easton Nazareth Hwy\, Easton\, PA\, 18045\, United States
ATTACH;FMTTYPE=image/jpeg:https://sospetrescue.org/wp-content/uploads/2025/06/image0.jpeg
END:VEVENT
BEGIN:VEVENT
DTSTART;TZID=America/New_York:20250629T100000
DTEND;TZID=America/New_York:20250629T140000
DTSTAMP:20260419T075957
CREATED:20250624T133859Z
LAST-MODIFIED:20250624T134000Z
UID:985-1751191200-1751205600@sospetrescue.org
SUMMARY:Free Pet Vaccines Thanks to Petco Love
DESCRIPTION:Free distemper and rabies vaccines and microchips.First come\, first served. No appointments.Dogs MUST be leashed.Cats MUST be in carriers.Please bring proof of previous vaccines if able. \nSOS Pet Rescue will be providing 300 Rabies vaccines and 100 microchips. Petco Love is providing 150 each canine and feline distemper vaccines. Together\, they are trying to help those in need to make it easier to keep their beloved pets in their homes.
URL:https://sospetrescue.org/event/free-pet-vaccines-thanks-to-petco-love/
LOCATION:Community Vet Care\, 212 Kevin Lane\, Brodheadsville\, PA\, United States
ATTACH;FMTTYPE=image/png:https://sospetrescue.org/wp-content/uploads/2025/06/image1-scaled.png
END:VEVENT
END:VCALENDAR