BEGIN:VCALENDAR
VERSION:2.0
PRODID:-//SOS Pet Rescue - ECPv6.15.20//NONSGML v1.0//EN
CALSCALE:GREGORIAN
METHOD:PUBLISH
X-WR-CALNAME:SOS Pet Rescue
X-ORIGINAL-URL:https://sospetrescue.org
X-WR-CALDESC:Events for SOS Pet Rescue
REFRESH-INTERVAL;VALUE=DURATION:PT1H
X-Robots-Tag:noindex
X-PUBLISHED-TTL:PT1H
BEGIN:VTIMEZONE
TZID:America/New_York
BEGIN:DAYLIGHT
TZOFFSETFROM:-0500
TZOFFSETTO:-0400
TZNAME:EDT
DTSTART:20240310T070000
END:DAYLIGHT
BEGIN:STANDARD
TZOFFSETFROM:-0400
TZOFFSETTO:-0500
TZNAME:EST
DTSTART:20241103T060000
END:STANDARD
BEGIN:DAYLIGHT
TZOFFSETFROM:-0500
TZOFFSETTO:-0400
TZNAME:EDT
DTSTART:20250309T070000
END:DAYLIGHT
BEGIN:STANDARD
TZOFFSETFROM:-0400
TZOFFSETTO:-0500
TZNAME:EST
DTSTART:20251102T060000
END:STANDARD
BEGIN:DAYLIGHT
TZOFFSETFROM:-0500
TZOFFSETTO:-0400
TZNAME:EDT
DTSTART:20260308T070000
END:DAYLIGHT
BEGIN:STANDARD
TZOFFSETFROM:-0400
TZOFFSETTO:-0500
TZNAME:EST
DTSTART:20261101T060000
END:STANDARD
END:VTIMEZONE
BEGIN:VEVENT
DTSTART;TZID=America/New_York:20250802T110000
DTEND;TZID=America/New_York:20250802T150000
DTSTAMP:20260419T101848
CREATED:20250728T151558Z
LAST-MODIFIED:20250728T151558Z
UID:1282-1754132400-1754146800@sospetrescue.org
SUMMARY:Tractor Supply Adoption Event
DESCRIPTION:
URL:https://sospetrescue.org/event/tractor-supply-adoption-event-3/
LOCATION:Tractor Supply\, 4037 Jandy Blvd\, Nazareth\, PA\, United States
ATTACH;FMTTYPE=image/webp:https://sospetrescue.org/wp-content/uploads/2025/07/unnamed.webp
END:VEVENT
BEGIN:VEVENT
DTSTART;TZID=America/New_York:20250809T123000
DTEND;TZID=America/New_York:20250809T133000
DTSTAMP:20260419T101848
CREATED:20250728T152012Z
LAST-MODIFIED:20250728T152012Z
UID:1288-1754742600-1754746200@sospetrescue.org
SUMMARY:Barre3 Donation Class
DESCRIPTION:
URL:https://sospetrescue.org/event/barre3-donation-class-2/
LOCATION:Barre3\, 3303 Bath Pike Bethlehem\, Bethlehem\, PA\, 18017\, United States
ATTACH;FMTTYPE=image/webp:https://sospetrescue.org/wp-content/uploads/2025/07/unnamed-1.webp
END:VEVENT
BEGIN:VEVENT
DTSTART;TZID=America/New_York:20250816T110000
DTEND;TZID=America/New_York:20250816T150000
DTSTAMP:20260419T101848
CREATED:20250728T151644Z
LAST-MODIFIED:20250728T151644Z
UID:1286-1755342000-1755356400@sospetrescue.org
SUMMARY:Tractor Supply Adoption Event
DESCRIPTION:
URL:https://sospetrescue.org/event/tractor-supply-adoption-event-4/
LOCATION:Tractor Supply\, 4037 Jandy Blvd\, Nazareth\, PA\, United States
ATTACH;FMTTYPE=image/webp:https://sospetrescue.org/wp-content/uploads/2025/07/unnamed.webp
END:VEVENT
END:VCALENDAR